BEGIN:VCALENDAR
VERSION:2.0
PRODID:icalendar-ruby
CALSCALE:GREGORIAN
METHOD:PUBLISH
BEGIN:VEVENT
DTSTAMP:20260419T192257Z
UID:6-449755@theharvest.tithelysetup5.com
DTSTART:20260912T200000Z
DTEND:20260912T210000Z
CLASS:PUBLIC
CREATED:20260419T130816
DESCRIPTION:Join us for the teaching and discussion of God's Word.
LAST-MODIFIED:20260419T130816
LOCATION:
SUMMARY:Weekly Gathering
URL;VALUE=URI:https://www.theharvestcc.org/events/weekly-gathering/2026-09-
 12
ATTACH;FILENAME=Studying-the-Bible-%281%29.png;FMTTYPE=image/png:https://dq
 5pwpg1q8ru0.cloudfront.net/2025/06/21/16/32/43/52148c08-5281-43f2-8d85-f55
 2076d37e6/Studying-the-Bible-%25281%2529.png
END:VEVENT
END:VCALENDAR
