BEGIN:VCALENDAR
VERSION:2.0
PRODID:icalendar-ruby
CALSCALE:GREGORIAN
METHOD:PUBLISH
BEGIN:VEVENT
DTSTAMP:20260420T035602Z
UID:5-450352@theharvest.tithelysetup5.com
DTSTART:20261004T143000Z
DTEND:20261004T153000Z
CLASS:PUBLIC
CREATED:20260419T203228
DESCRIPTION:Sunday Worship
LAST-MODIFIED:20260419T203228
LOCATION:
SUMMARY:Sunday Worship
URL;VALUE=URI:https://www.theharvestcc.org/events/sunday-worship/2026-10-04
END:VEVENT
END:VCALENDAR
