BEGIN:VCALENDAR
VERSION:2.0
PRODID:icalendar-ruby
CALSCALE:GREGORIAN
METHOD:PUBLISH
BEGIN:VEVENT
DTSTAMP:20260419T224940Z
UID:5-450016@theharvest.tithelysetup5.com
DTSTART:20260913T143000Z
DTEND:20260913T153000Z
CLASS:PUBLIC
CREATED:20260419T165028
DESCRIPTION:Sunday Worship
LAST-MODIFIED:20260419T165028
LOCATION:
SUMMARY:Sunday Worship
URL;VALUE=URI:https://www.theharvestcc.org/events/sunday-worship/2026-09-13
END:VEVENT
END:VCALENDAR
